BEGIN:VCALENDAR
VERSION:2.0
PRODID:-//The Church at Pinhook - ECPv6.15.14//NONSGML v1.0//EN
CALSCALE:GREGORIAN
METHOD:PUBLISH
X-ORIGINAL-URL:https://www.thechurchatpinhook.com
X-WR-CALDESC:Events for The Church at Pinhook
REFRESH-INTERVAL;VALUE=DURATION:PT1H
X-Robots-Tag:noindex
X-PUBLISHED-TTL:PT1H
BEGIN:VTIMEZONE
TZID:America/Toronto
BEGIN:DAYLIGHT
TZOFFSETFROM:-0500
TZOFFSETTO:-0400
TZNAME:EDT
DTSTART:20250309T070000
END:DAYLIGHT
BEGIN:STANDARD
TZOFFSETFROM:-0400
TZOFFSETTO:-0500
TZNAME:EST
DTSTART:20251102T060000
END:STANDARD
BEGIN:DAYLIGHT
TZOFFSETFROM:-0500
TZOFFSETTO:-0400
TZNAME:EDT
DTSTART:20260308T070000
END:DAYLIGHT
BEGIN:STANDARD
TZOFFSETFROM:-0400
TZOFFSETTO:-0500
TZNAME:EST
DTSTART:20261101T060000
END:STANDARD
BEGIN:DAYLIGHT
TZOFFSETFROM:-0500
TZOFFSETTO:-0400
TZNAME:EDT
DTSTART:20270314T070000
END:DAYLIGHT
BEGIN:STANDARD
TZOFFSETFROM:-0400
TZOFFSETTO:-0500
TZNAME:EST
DTSTART:20271107T060000
END:STANDARD
END:VTIMEZONE
BEGIN:VEVENT
DTSTART;TZID=America/Toronto:20260503T190000
DTEND;TZID=America/Toronto:20260509T200000
DTSTAMP:20260420T112011
CREATED:20260127T175113Z
LAST-MODIFIED:20260127T175113Z
UID:1313-1777834800-1778356800@www.thechurchatpinhook.com
SUMMARY:Tent Revival
DESCRIPTION:211 Lighthouse Road \nWallace\, NC 28466
URL:https://www.thechurchatpinhook.com/event/tent-revival/
ATTACH;FMTTYPE=image/jpeg:https://www.thechurchatpinhook.com/wp-content/uploads/2024/11/aaron-burden-uj3Y7r1BeM-unsplash.jpg
END:VEVENT
BEGIN:VEVENT
DTSTART;TZID=America/Toronto:20260510T110000
DTEND;TZID=America/Toronto:20260510T120000
DTSTAMP:20260420T112011
CREATED:20260127T175550Z
LAST-MODIFIED:20260127T175550Z
UID:1315-1778410800-1778414400@www.thechurchatpinhook.com
SUMMARY:Mothers Day Service
DESCRIPTION:
URL:https://www.thechurchatpinhook.com/event/mothers-day-service-2/
LOCATION:Pin Hook Church Sanctuary\, 1650 Deep Bottom Rd\, Wallace\, NC\, 28466\, United States
ATTACH;FMTTYPE=image/jpeg:https://www.thechurchatpinhook.com/wp-content/uploads/2026/01/rikonavt-oEWdQsbRVZk-unsplash.jpg
END:VEVENT
BEGIN:VEVENT
DTSTART;TZID=America/Toronto:20260513T190000
DTEND;TZID=America/Toronto:20260513T200000
DTSTAMP:20260420T112011
CREATED:20260127T175655Z
LAST-MODIFIED:20260127T175655Z
UID:1318-1778698800-1778702400@www.thechurchatpinhook.com
SUMMARY:Ministry Meetings
DESCRIPTION:
URL:https://www.thechurchatpinhook.com/event/ministry-meetings-5/
LOCATION:Pin Hook Church\, 1650 Deep Bottom Rd\, Wallace\, NC\, 28466\, United States
ATTACH;FMTTYPE=image/jpeg:https://www.thechurchatpinhook.com/wp-content/uploads/2025/01/books-2158773_1280.jpg
END:VEVENT
BEGIN:VEVENT
DTSTART;TZID=America/Toronto:20260524T110000
DTEND;TZID=America/Toronto:20260524T120000
DTSTAMP:20260420T112011
CREATED:20260127T175804Z
LAST-MODIFIED:20260127T175804Z
UID:1320-1779620400-1779624000@www.thechurchatpinhook.com
SUMMARY:Memorial Day Service
DESCRIPTION:
URL:https://www.thechurchatpinhook.com/event/memorial-day-service-2/
LOCATION:Pin Hook Church Sanctuary\, 1650 Deep Bottom Rd\, Wallace\, NC\, 28466\, United States
ATTACH;FMTTYPE=image/jpeg:https://www.thechurchatpinhook.com/wp-content/uploads/2025/03/lucas-sankey-gdQ_az6CSPo-unsplash.jpg
END:VEVENT
BEGIN:VEVENT
DTSTART;TZID=America/Toronto:20260531T110000
DTEND;TZID=America/Toronto:20260531T120000
DTSTAMP:20260420T112011
CREATED:20260127T180034Z
LAST-MODIFIED:20260127T180034Z
UID:1322-1780225200-1780228800@www.thechurchatpinhook.com
SUMMARY:First Responders Day
DESCRIPTION:
URL:https://www.thechurchatpinhook.com/event/first-responders-day/
LOCATION:Pin Hook Church Sanctuary\, 1650 Deep Bottom Rd\, Wallace\, NC\, 28466\, United States
ATTACH;FMTTYPE=image/jpeg:https://www.thechurchatpinhook.com/wp-content/uploads/2026/01/pete-pedroza-VyC0YSFRDTU-unsplash.jpg
END:VEVENT
BEGIN:VEVENT
DTSTART;TZID=America/Toronto:20260607T174500
DTEND;TZID=America/Toronto:20260607T204500
DTSTAMP:20260420T112011
CREATED:20260127T180615Z
LAST-MODIFIED:20260127T180615Z
UID:1325-1780854300-1780865100@www.thechurchatpinhook.com
SUMMARY:Vacation Bible School
DESCRIPTION:Sunday Registration will start at 5:45pm \nMonday thru Thursday we will eat from 6-6:30 \nFriday will be commencement at 7pm with dinner to follow \nPick up will be 8:45 nightly
URL:https://www.thechurchatpinhook.com/event/vacation-bible-school/
ATTACH;FMTTYPE=image/jpeg:https://www.thechurchatpinhook.com/wp-content/uploads/2026/01/jesus-loves-austin-TqHDqXkWSCk-unsplash.jpg
END:VEVENT
END:VCALENDAR