BEGIN:VCALENDAR
VERSION:2.0
PRODID:-//The Church at Pinhook - ECPv6.15.14//NONSGML v1.0//EN
CALSCALE:GREGORIAN
METHOD:PUBLISH
X-WR-CALNAME:The Church at Pinhook
X-ORIGINAL-URL:https://www.thechurchatpinhook.com
X-WR-CALDESC:Events for The Church at Pinhook
REFRESH-INTERVAL;VALUE=DURATION:PT1H
X-Robots-Tag:noindex
X-PUBLISHED-TTL:PT1H
BEGIN:VTIMEZONE
TZID:America/Toronto
BEGIN:DAYLIGHT
TZOFFSETFROM:-0500
TZOFFSETTO:-0400
TZNAME:EDT
DTSTART:20230312T070000
END:DAYLIGHT
BEGIN:STANDARD
TZOFFSETFROM:-0400
TZOFFSETTO:-0500
TZNAME:EST
DTSTART:20231105T060000
END:STANDARD
BEGIN:DAYLIGHT
TZOFFSETFROM:-0500
TZOFFSETTO:-0400
TZNAME:EDT
DTSTART:20240310T070000
END:DAYLIGHT
BEGIN:STANDARD
TZOFFSETFROM:-0400
TZOFFSETTO:-0500
TZNAME:EST
DTSTART:20241103T060000
END:STANDARD
BEGIN:DAYLIGHT
TZOFFSETFROM:-0500
TZOFFSETTO:-0400
TZNAME:EDT
DTSTART:20250309T070000
END:DAYLIGHT
BEGIN:STANDARD
TZOFFSETFROM:-0400
TZOFFSETTO:-0500
TZNAME:EST
DTSTART:20251102T060000
END:STANDARD
BEGIN:DAYLIGHT
TZOFFSETFROM:-0500
TZOFFSETTO:-0400
TZNAME:EDT
DTSTART:20260308T070000
END:DAYLIGHT
BEGIN:STANDARD
TZOFFSETFROM:-0400
TZOFFSETTO:-0500
TZNAME:EST
DTSTART:20261101T060000
END:STANDARD
END:VTIMEZONE
BEGIN:VEVENT
DTSTART;TZID=America/Toronto:20250117T190000
DTEND;TZID=America/Toronto:20250117T200000
DTSTAMP:20260420T194733
CREATED:20241213T155705Z
LAST-MODIFIED:20241213T155750Z
UID:984-1737140400-1737144000@www.thechurchatpinhook.com
SUMMARY:Pioneers Meeting
DESCRIPTION:Pioneers will be having a meeting January 17th. All Pioneers are encouraged to attend!
URL:https://www.thechurchatpinhook.com/event/pioneers-meeting/
LOCATION:Pin Hook Church\, 1650 Deep Bottom Rd\, Wallace\, NC\, 28466\, United States
ATTACH;FMTTYPE=image/jpeg:https://www.thechurchatpinhook.com/wp-content/uploads/2024/12/jan-kahanek-g3O5ZtRk2E4-unsplash.jpg
END:VEVENT
BEGIN:VEVENT
DTSTART;TZID=America/Toronto:20250113T190000
DTEND;TZID=America/Toronto:20250113T200000
DTSTAMP:20260420T194733
CREATED:20241228T174916Z
LAST-MODIFIED:20241228T174916Z
UID:1001-1736794800-1736798400@www.thechurchatpinhook.com
SUMMARY:Annual Business Meeting
DESCRIPTION:We will be having our annual business meeting on January 13th at 7pm. All church members are encouraged to attend!
URL:https://www.thechurchatpinhook.com/event/annual-business-meeting/
LOCATION:Pin Hook Church Sanctuary\, 1650 Deep Bottom Rd\, Wallace\, NC\, 28466\, United States
ATTACH;FMTTYPE=image/jpeg:https://www.thechurchatpinhook.com/wp-content/uploads/2024/12/laptops-593296_1280.jpg
END:VEVENT
BEGIN:VEVENT
DTSTART;TZID=America/Toronto:20250106T190000
DTEND;TZID=America/Toronto:20250106T200000
DTSTAMP:20260420T194733
CREATED:20241228T174426Z
LAST-MODIFIED:20241228T174426Z
UID:999-1736190000-1736193600@www.thechurchatpinhook.com
SUMMARY:Deacon/Elder Meeting
DESCRIPTION:All deacons and elders are encourage to attend!
URL:https://www.thechurchatpinhook.com/event/deacon-elder-meeting/
LOCATION:Pin Hook Church\, 1650 Deep Bottom Rd\, Wallace\, NC\, 28466\, United States
ATTACH;FMTTYPE=image/jpeg:https://www.thechurchatpinhook.com/wp-content/uploads/2024/12/jan-kahanek-g3O5ZtRk2E4-unsplash.jpg
END:VEVENT
BEGIN:VEVENT
DTSTART;TZID=America/Toronto:20250104T160000
DTEND;TZID=America/Toronto:20250104T170000
DTSTAMP:20260420T194733
CREATED:20241228T174247Z
LAST-MODIFIED:20241228T174457Z
UID:995-1736006400-1736010000@www.thechurchatpinhook.com
SUMMARY:PHVFD Community Supper
DESCRIPTION:
URL:https://www.thechurchatpinhook.com/event/phvfd-community-supper/
LOCATION:Pin Hook Volunteer Fire Dept.
ATTACH;FMTTYPE=image/jpeg:https://www.thechurchatpinhook.com/wp-content/uploads/2024/12/chris-carzoli-bn5LpfV9W1A-unsplash.jpg
END:VEVENT
BEGIN:VEVENT
DTSTART;TZID=America/Toronto:20250101T190000
DTEND;TZID=America/Toronto:20250101T190000
DTSTAMP:20260420T194733
CREATED:20241228T173751Z
LAST-MODIFIED:20241228T173818Z
UID:992-1735758000-1735758000@www.thechurchatpinhook.com
SUMMARY:New Years Day
DESCRIPTION:There will be no scheduled meetings/Bible Study for January 1st.
URL:https://www.thechurchatpinhook.com/event/new-years-day/
ATTACH;FMTTYPE=image/jpeg:https://www.thechurchatpinhook.com/wp-content/uploads/2024/12/boliviainteligente-HKpRWdyRrp8-unsplash.jpg
END:VEVENT
BEGIN:VEVENT
DTSTART;TZID=America/Toronto:20241222T100000
DTEND;TZID=America/Toronto:20241222T110000
DTSTAMP:20260420T194733
CREATED:20240814T180711Z
LAST-MODIFIED:20240814T184741Z
UID:798-1734861600-1734865200@www.thechurchatpinhook.com
SUMMARY:Sunday School Christmas Parties
DESCRIPTION:All Sunday School classes will be having Christmas parties for Sunday School. Hope to see you there!
URL:https://www.thechurchatpinhook.com/event/sunday-school-christmas-parties/
ATTACH;FMTTYPE=image/png:https://www.thechurchatpinhook.com/wp-content/uploads/2024/08/god-7595210_1280.png
END:VEVENT
BEGIN:VEVENT
DTSTART;TZID=America/Toronto:20241214T190000
DTEND;TZID=America/Toronto:20241214T203000
DTSTAMP:20260420T194733
CREATED:20240814T180455Z
LAST-MODIFIED:20240814T184628Z
UID:795-1734202800-1734208200@www.thechurchatpinhook.com
SUMMARY:Christmas Play
DESCRIPTION:Join us and enjoy our annual Christmas play put on by our Youth Department.
URL:https://www.thechurchatpinhook.com/event/christmas-play/
ATTACH;FMTTYPE=image/png:https://www.thechurchatpinhook.com/wp-content/uploads/2024/08/star-8152035_1280.png
END:VEVENT
BEGIN:VEVENT
DTSTART;TZID=America/Toronto:20241209T160000
DTEND;TZID=America/Toronto:20241209T203000
DTSTAMP:20260420T194733
CREATED:20240906T150823Z
LAST-MODIFIED:20240906T150823Z
UID:864-1733760000-1733776200@www.thechurchatpinhook.com
SUMMARY:Mike's Farm Christmas Dinner
DESCRIPTION:Young Adults and Pioneers will be going together for Dinner and hayride. If you have signed up and do not have details contact Bridget or Jasmine.
URL:https://www.thechurchatpinhook.com/event/mikes-farm-christmas-dinner/
LOCATION:Mike’s Farm
ATTACH;FMTTYPE=image/jpeg:https://www.thechurchatpinhook.com/wp-content/uploads/2024/09/pexels-ken123films-754588.jpg
END:VEVENT
BEGIN:VEVENT
DTSTART;TZID=America/Toronto:20241207T190000
DTEND;TZID=America/Toronto:20241207T200000
DTSTAMP:20260420T194733
CREATED:20240814T180241Z
LAST-MODIFIED:20240814T180241Z
UID:792-1733598000-1733601600@www.thechurchatpinhook.com
SUMMARY:Ladies Aux - Christmas Supper
DESCRIPTION:More Info to come.
URL:https://www.thechurchatpinhook.com/event/ladies-aux-christmas-supper/
ATTACH;FMTTYPE=image/png:https://www.thechurchatpinhook.com/wp-content/uploads/2024/08/christmas-1299374_1280.png
END:VEVENT
BEGIN:VEVENT
DTSTART;TZID=America/Toronto:20241206T160000
DTEND;TZID=America/Toronto:20241206T170000
DTSTAMP:20260420T194733
CREATED:20240814T175938Z
LAST-MODIFIED:20240814T175955Z
UID:788-1733500800-1733504400@www.thechurchatpinhook.com
SUMMARY:Daycare - Christmas Program
DESCRIPTION:Join us to celebrate the annual Daycare Christmas program put on by Day Care at Pin Hook.
URL:https://www.thechurchatpinhook.com/event/daycare-christmas-program/
LOCATION:Pin Hook Church Sanctuary\, 1650 Deep Bottom Rd\, Wallace\, NC\, 28466\, United States
ATTACH;FMTTYPE=image/png:https://www.thechurchatpinhook.com/wp-content/uploads/2024/08/lamb-1388937_1280.png
END:VEVENT
BEGIN:VEVENT
DTSTART;TZID=America/Toronto:20241201T180000
DTEND;TZID=America/Toronto:20241201T190000
DTSTAMP:20260420T194733
CREATED:20240814T175606Z
LAST-MODIFIED:20240823T154333Z
UID:785-1733076000-1733079600@www.thechurchatpinhook.com
SUMMARY:Hanging of the Green
DESCRIPTION:Join us for this annual tradition to kick off the Christmas season and honor those before us.
URL:https://www.thechurchatpinhook.com/event/hanging-of-the-green/
LOCATION:Pin Hook Church Sanctuary\, 1650 Deep Bottom Rd\, Wallace\, NC\, 28466\, United States
ATTACH;FMTTYPE=image/png:https://www.thechurchatpinhook.com/wp-content/uploads/2024/08/christmas-tree-42473_1280.png
END:VEVENT
BEGIN:VEVENT
DTSTART;TZID=America/Toronto:20241119T083000
DTEND;TZID=America/Toronto:20241119T093000
DTSTAMP:20260420T194733
CREATED:20241101T153336Z
LAST-MODIFIED:20241101T153336Z
UID:940-1732005000-1732008600@www.thechurchatpinhook.com
SUMMARY:Ladies Bible Study
DESCRIPTION:Ladies will be meeting in the fellowship hall November 19th for Bible study and breakfast. Ladies of all ages are encourage to join this wonderful ministry.
URL:https://www.thechurchatpinhook.com/event/ladies-bible-study/
LOCATION:Pin Hook Church Fellowship Hall
ATTACH;FMTTYPE=image/jpeg:https://www.thechurchatpinhook.com/wp-content/uploads/2024/11/aaron-burden-uj3Y7r1BeM-unsplash.jpg
END:VEVENT
BEGIN:VEVENT
DTSTART;TZID=America/Toronto:20241117T120000
DTEND;TZID=America/Toronto:20241117T130000
DTSTAMP:20260420T194733
CREATED:20240814T175009Z
LAST-MODIFIED:20240819T165806Z
UID:782-1731844800-1731848400@www.thechurchatpinhook.com
SUMMARY:Youth - Soup and Sandwich Lunch
DESCRIPTION:Youth will be having their annual soup and Sandwich lunch following Sunday morning worship service. Please come out and support our Youth!
URL:https://www.thechurchatpinhook.com/event/youth-soup-and-sandwich-lunch/
LOCATION:Pin Hook Church Family Life Center
ATTACH;FMTTYPE=image/png:https://www.thechurchatpinhook.com/wp-content/uploads/2024/08/pumpkin-soup-6762603_1280.png
END:VEVENT
BEGIN:VEVENT
DTSTART;TZID=America/Toronto:20241115T180000
DTEND;TZID=America/Toronto:20241115T200000
DTSTAMP:20260420T194733
CREATED:20241101T152847Z
LAST-MODIFIED:20241101T153425Z
UID:938-1731693600-1731700800@www.thechurchatpinhook.com
SUMMARY:10 and Under Christmas Party!
DESCRIPTION:Let’s get pumped for Christmas!! 10 and unders will be meeting in the library for a Christmas celebration on November15th @ 6pm. We will be doing Christmas crafts\, eating pizza \, and watching a movie! We are in need of a few volunteers for this. Please see Rebecca if you would like to help.
URL:https://www.thechurchatpinhook.com/event/10-and-under-christmas-party/
LOCATION:Pin Hook Church Family Life Center
ATTACH;FMTTYPE=image/png:https://www.thechurchatpinhook.com/wp-content/uploads/2024/08/god-7595210_1280.png
END:VEVENT
BEGIN:VEVENT
DTSTART;TZID=America/Toronto:20241027T123000
DTEND;TZID=America/Toronto:20241027T170000
DTSTAMP:20260420T194733
CREATED:20240919T152044Z
LAST-MODIFIED:20240919T152044Z
UID:879-1730032200-1730048400@www.thechurchatpinhook.com
SUMMARY:Men's Trap Shooting
DESCRIPTION:Young Adults Men will be going to Hunters’ Pointe Sporting Clays on October 27th after church. The cost is approximately $26 per person. Please let Chancey or Jasmine know if you would like to go by October 13th.
URL:https://www.thechurchatpinhook.com/event/mens-trap-shooting/
LOCATION:Pin Hook Church\, 1650 Deep Bottom Rd\, Wallace\, NC\, 28466\, United States
ATTACH;FMTTYPE=image/jpeg:https://www.thechurchatpinhook.com/wp-content/uploads/2024/06/Mens-Fellowship-.jpg
END:VEVENT
BEGIN:VEVENT
DTSTART;TZID=America/Toronto:20241026T180000
DTEND;TZID=America/Toronto:20241026T200000
DTSTAMP:20260420T194733
CREATED:20240814T173149Z
LAST-MODIFIED:20240928T195749Z
UID:772-1729965600-1729972800@www.thechurchatpinhook.com
SUMMARY:Hallelujah Night & Trunk or Treat
DESCRIPTION:Join us for fun on inflatables and lots of fried foods in the FLC from 6-8 pm. Hope to see you there!
URL:https://www.thechurchatpinhook.com/event/hallelujah-night/
ATTACH;FMTTYPE=image/png:https://www.thechurchatpinhook.com/wp-content/uploads/2024/08/balloons-303734_1280.png
END:VEVENT
BEGIN:VEVENT
DTSTART;TZID=America/Toronto:20241020T100000
DTEND;TZID=America/Toronto:20241020T110000
DTSTAMP:20260420T194733
CREATED:20241004T135442Z
LAST-MODIFIED:20241004T135442Z
UID:892-1729418400-1729422000@www.thechurchatpinhook.com
SUMMARY:Mr. Al's Birthday Breakfast
DESCRIPTION:
URL:https://www.thechurchatpinhook.com/event/mr-als-birthday-breakfast/
LOCATION:Pin Hook Church Fellowship Hall
ATTACH;FMTTYPE=image/png:https://www.thechurchatpinhook.com/wp-content/uploads/2024/08/balloons-303734_1280.png
END:VEVENT
BEGIN:VEVENT
DTSTART;TZID=America/Toronto:20241019T160000
DTEND;TZID=America/Toronto:20241019T193000
DTSTAMP:20260420T194733
CREATED:20241018T141859Z
LAST-MODIFIED:20241018T141859Z
UID:896-1729353600-1729366200@www.thechurchatpinhook.com
SUMMARY:The Judgement House
DESCRIPTION:We will be going to the Judgement house in Goldsboro on October 19th. If you are interested in going please see Jasmine.
URL:https://www.thechurchatpinhook.com/event/the-judgement-house/
LOCATION:The First Church of Goldsboro
END:VEVENT
BEGIN:VEVENT
DTSTART;TZID=America/Toronto:20241013T100000
DTEND;TZID=America/Toronto:20241013T120000
DTSTAMP:20260420T194733
CREATED:20240814T174303Z
LAST-MODIFIED:20240814T174303Z
UID:775-1728813600-1728820800@www.thechurchatpinhook.com
SUMMARY:Pin Hook Church Homecoming
DESCRIPTION:Homecoming service will begin at 10 am with lunch to follow in the FLC. Ronnie Heath will deliver the message and The Brown’s will be singing. All are welcome!
URL:https://www.thechurchatpinhook.com/event/pin-hook-church-homecoming/
LOCATION:Pin Hook Church Sanctuary\, 1650 Deep Bottom Rd\, Wallace\, NC\, 28466\, United States
ATTACH;FMTTYPE=image/png:https://www.thechurchatpinhook.com/wp-content/uploads/2024/08/wreath-6703792_1280.png
END:VEVENT
BEGIN:VEVENT
DTSTART;TZID=America/Toronto:20241006T110000
DTEND;TZID=America/Toronto:20241006T120000
DTSTAMP:20260420T194733
CREATED:20240814T172500Z
LAST-MODIFIED:20240814T172500Z
UID:768-1728212400-1728216000@www.thechurchatpinhook.com
SUMMARY:Youth Sunday
DESCRIPTION:
URL:https://www.thechurchatpinhook.com/event/youth-sunday/
LOCATION:Pin Hook Church Sanctuary\, 1650 Deep Bottom Rd\, Wallace\, NC\, 28466\, United States
ATTACH;FMTTYPE=image/png:https://www.thechurchatpinhook.com/wp-content/uploads/2024/08/yellow-304649_1280.png
END:VEVENT
BEGIN:VEVENT
DTSTART;TZID=America/Toronto:20240929T110000
DTEND;TZID=America/Toronto:20240929T120000
DTSTAMP:20260420T194733
CREATED:20240928T200132Z
LAST-MODIFIED:20240928T200140Z
UID:887-1727607600-1727611200@www.thechurchatpinhook.com
SUMMARY:Fifth Sunday Sing
DESCRIPTION:Join us for a blessing and Praise and Worship on our Fifth Sunday Sing! Service will begin at 11am.
URL:https://www.thechurchatpinhook.com/event/fifth-sunday-sing/
LOCATION:Pin Hook Church Sanctuary\, 1650 Deep Bottom Rd\, Wallace\, NC\, 28466\, United States
ATTACH;FMTTYPE=image/jpeg:https://www.thechurchatpinhook.com/wp-content/uploads/2024/09/pexels-pixabay-210764.jpg
END:VEVENT
BEGIN:VEVENT
DTSTART;TZID=America/Toronto:20240919T080000
DTEND;TZID=America/Toronto:20240919T170000
DTSTAMP:20260420T194733
CREATED:20240814T170240Z
LAST-MODIFIED:20240819T165649Z
UID:750-1726732800-1726765200@www.thechurchatpinhook.com
SUMMARY:Pioneers Trip - Karen Beasley Turtle Rehab
DESCRIPTION:Trip is being planned for Karen Beasley Turtle Rehab at Surf City on September 19th. Will tour the facility and eat at Riverview Cafe for supper.  Please let Bridget know if you would be September 1st if you would like to go.
URL:https://www.thechurchatpinhook.com/event/pioneers-trip-karen-beasley-turtle-rehab/
ATTACH;FMTTYPE=image/png:https://www.thechurchatpinhook.com/wp-content/uploads/2024/08/ai-generated-8715255_1280.png
END:VEVENT
BEGIN:VEVENT
DTSTART;TZID=America/Toronto:20240909T140000
DTEND;TZID=America/Toronto:20240909T170000
DTSTAMP:20260420T194733
CREATED:20240823T152557Z
LAST-MODIFIED:20240823T152557Z
UID:850-1725890400-1725901200@www.thechurchatpinhook.com
SUMMARY:Ms. Grace Whaley Birthday
DESCRIPTION:We will be having a birthday party for Ms. Grace in Wilmington at Liberty Commons Rehabilitation Center at 2pm. Please Let Glenda Faye know if you would like to go.
URL:https://www.thechurchatpinhook.com/event/ms-grace-whaley-birthday/
LOCATION:Liberty Commons Rehabilitation Center\, Wilmington\, NC
ATTACH;FMTTYPE=image/jpeg:https://www.thechurchatpinhook.com/wp-content/uploads/2024/08/jason-leung-Xaanw0s0pMk-unsplash.jpg
END:VEVENT
BEGIN:VEVENT
DTSTART;TZID=America/Toronto:20240904T150000
DTEND;TZID=America/Toronto:20240904T173000
DTSTAMP:20260420T194733
CREATED:20240823T153039Z
LAST-MODIFIED:20240823T153039Z
UID:854-1725462000-1725471000@www.thechurchatpinhook.com
SUMMARY:Young Adults Plate Sale
DESCRIPTION:Original sign up sheets will be on foyer table if you need to make any changes to your order or cake donation. Pick-up will be in the FLC 3-5:30pm. The Young Adults truly appreciate your support.
URL:https://www.thechurchatpinhook.com/event/young-adults-plate-sale/
LOCATION:Pin Hook Church Family Life Center
ATTACH;FMTTYPE=image/jpeg:https://www.thechurchatpinhook.com/wp-content/uploads/2024/08/kenny-eliason-8Cerf3zW8hA-unsplash.jpg
END:VEVENT
BEGIN:VEVENT
DTSTART;TZID=America/Toronto:20240825T110000
DTEND;TZID=America/Toronto:20240825T120000
DTSTAMP:20260420T194733
CREATED:20240814T165448Z
LAST-MODIFIED:20240819T165445Z
UID:747-1724583600-1724587200@www.thechurchatpinhook.com
SUMMARY:Baptizing and Opening of Church Doors
DESCRIPTION:August 25th 2024 we will have a baptizing and opening of Church Doors so that new members may join our church officially. If you would like to be baptized please see Reverend David.
URL:https://www.thechurchatpinhook.com/event/baptizing-and-opening-of-church-doors/
LOCATION:Pin Hook Church Family Life Center
ATTACH;FMTTYPE=image/png:https://www.thechurchatpinhook.com/wp-content/uploads/2024/08/ink-8139982_1280.png
END:VEVENT
BEGIN:VEVENT
DTSTART;TZID=America/Toronto:20240825T110000
DTEND;TZID=America/Toronto:20240825T120000
DTSTAMP:20260420T194733
CREATED:20240814T165014Z
LAST-MODIFIED:20240819T165414Z
UID:744-1724583600-1724587200@www.thechurchatpinhook.com
SUMMARY:Sunday School Teacher Induction
DESCRIPTION:Sunday School Teachers for the 2024 – 2025 school year will be acknowledged on August 25th at 11 am in the FLC.
URL:https://www.thechurchatpinhook.com/event/sunday-school-teacher-induction/
LOCATION:Pin Hook Church Family Life Center
ATTACH;FMTTYPE=image/jpeg:https://www.thechurchatpinhook.com/wp-content/uploads/2024/08/child-2782666_1280.jpg
END:VEVENT
BEGIN:VEVENT
DTSTART;TZID=America/Toronto:20240821T190000
DTEND;TZID=America/Toronto:20240821T200000
DTSTAMP:20260420T194733
CREATED:20240814T172000Z
LAST-MODIFIED:20240819T172932Z
UID:764-1724266800-1724270400@www.thechurchatpinhook.com
SUMMARY:Ministry Meetings
DESCRIPTION:Ministry Meetings will be August 21st at 7pm. We encourage everyone to attend!
URL:https://www.thechurchatpinhook.com/event/ministry-meetings/
LOCATION:Pin Hook Church FLC & Fellowship Hall
ATTACH;FMTTYPE=image/png:https://www.thechurchatpinhook.com/wp-content/uploads/2024/08/cartoon-2026825_1280.png
END:VEVENT
BEGIN:VEVENT
DTSTART;TZID=America/Toronto:20240821T180000
DTEND;TZID=America/Toronto:20240821T200000
DTSTAMP:20260420T194733
CREATED:20240814T163919Z
LAST-MODIFIED:20240819T165021Z
UID:737-1724263200-1724270400@www.thechurchatpinhook.com
SUMMARY:PLUNGE - Back to School Cookout
DESCRIPTION:PLUNGE will be having their back to school party August 21st from 6 – 8pm at Mill Swamp Pool. Dinner will be provided and we hope to see you there!
URL:https://www.thechurchatpinhook.com/event/plunge-back-to-school-cookout/
LOCATION:Mill Swamp Private Pool
ATTACH;FMTTYPE=image/jpeg:https://www.thechurchatpinhook.com/wp-content/uploads/2024/08/barbecue-7998536_1280.jpg
END:VEVENT
BEGIN:VEVENT
DTSTART;TZID=America/Toronto:20240818T110000
DTEND;TZID=America/Toronto:20240818T140000
DTSTAMP:20260420T194733
CREATED:20240814T143441Z
LAST-MODIFIED:20240814T164403Z
UID:714-1723978800-1723989600@www.thechurchatpinhook.com
SUMMARY:Back to School Party
DESCRIPTION:Back to School party will be held at the FLC from 11 am – 2 pm. Please wear clothes that you are able to get wet. Lunch will be provided. We hope to see you there to celebrate our children!
URL:https://www.thechurchatpinhook.com/event/back-to-school-party/
ATTACH;FMTTYPE=image/jpeg:https://www.thechurchatpinhook.com/wp-content/uploads/2024/08/school-8754067_1280.jpg
END:VEVENT
END:VCALENDAR