BEGIN:VCALENDAR
VERSION:2.0
PRODID:-//The Church at Pinhook - ECPv6.15.20//NONSGML v1.0//EN
CALSCALE:GREGORIAN
METHOD:PUBLISH
X-WR-CALNAME:The Church at Pinhook
X-ORIGINAL-URL:https://www.thechurchatpinhook.com
X-WR-CALDESC:Events for The Church at Pinhook
REFRESH-INTERVAL;VALUE=DURATION:PT1H
X-Robots-Tag:noindex
X-PUBLISHED-TTL:PT1H
BEGIN:VTIMEZONE
TZID:America/Toronto
BEGIN:DAYLIGHT
TZOFFSETFROM:-0500
TZOFFSETTO:-0400
TZNAME:EDT
DTSTART:20250309T070000
END:DAYLIGHT
BEGIN:STANDARD
TZOFFSETFROM:-0400
TZOFFSETTO:-0500
TZNAME:EST
DTSTART:20251102T060000
END:STANDARD
BEGIN:DAYLIGHT
TZOFFSETFROM:-0500
TZOFFSETTO:-0400
TZNAME:EDT
DTSTART:20260308T070000
END:DAYLIGHT
BEGIN:STANDARD
TZOFFSETFROM:-0400
TZOFFSETTO:-0500
TZNAME:EST
DTSTART:20261101T060000
END:STANDARD
BEGIN:DAYLIGHT
TZOFFSETFROM:-0500
TZOFFSETTO:-0400
TZNAME:EDT
DTSTART:20270314T070000
END:DAYLIGHT
BEGIN:STANDARD
TZOFFSETFROM:-0400
TZOFFSETTO:-0500
TZNAME:EST
DTSTART:20271107T060000
END:STANDARD
END:VTIMEZONE
BEGIN:VEVENT
DTSTART;TZID=America/Toronto:20260304T153000
DTEND;TZID=America/Toronto:20260304T173000
DTSTAMP:20260424T083059
CREATED:20260127T171159Z
LAST-MODIFIED:20260127T174427Z
UID:1304-1772638200-1772645400@www.thechurchatpinhook.com
SUMMARY:Youth Plate Sale
DESCRIPTION:
URL:https://www.thechurchatpinhook.com/event/youth-plate-sale-2/
LOCATION:Pin Hook Church Family Life Center
ATTACH;FMTTYPE=image/png:https://www.thechurchatpinhook.com/wp-content/uploads/2024/08/yellow-304649_1280.png
END:VEVENT
BEGIN:VEVENT
DTSTART;TZID=America/Toronto:20260314T080000
DTEND;TZID=America/Toronto:20260314T110000
DTSTAMP:20260424T083059
CREATED:20260127T174025Z
LAST-MODIFIED:20260127T174333Z
UID:1306-1773475200-1773486000@www.thechurchatpinhook.com
SUMMARY:Ladies Aux Pine Straw Sale
DESCRIPTION:Please Contact Rebecca Cavenaugh with questions.
URL:https://www.thechurchatpinhook.com/event/ladies-aux-pine-straw-sale/
LOCATION:Pin Hook Church\, 1650 Deep Bottom Rd\, Wallace\, NC\, 28466\, United States
ATTACH;FMTTYPE=image/jpeg:https://www.thechurchatpinhook.com/wp-content/uploads/2024/06/IMG_1973-e1719529669249.jpeg
END:VEVENT
END:VCALENDAR